BEGIN:VCALENDAR
VERSION:2.0
PRODID:-//Dörfernetzwerk - ECPv6.15.20//NONSGML v1.0//EN
CALSCALE:GREGORIAN
METHOD:PUBLISH
X-WR-CALNAME:Dörfernetzwerk
X-ORIGINAL-URL:https://38-unter-einem-hut.de/doerfernetzwerk
X-WR-CALDESC:Veranstaltungen für Dörfernetzwerk
REFRESH-INTERVAL;VALUE=DURATION:PT1H
X-Robots-Tag:noindex
X-PUBLISHED-TTL:PT1H
BEGIN:VTIMEZONE
TZID:Europe/Berlin
BEGIN:DAYLIGHT
TZOFFSETFROM:+0100
TZOFFSETTO:+0200
TZNAME:CEST
DTSTART:20230326T010000
END:DAYLIGHT
BEGIN:STANDARD
TZOFFSETFROM:+0200
TZOFFSETTO:+0100
TZNAME:CET
DTSTART:20231029T010000
END:STANDARD
BEGIN:DAYLIGHT
TZOFFSETFROM:+0100
TZOFFSETTO:+0200
TZNAME:CEST
DTSTART:20240331T010000
END:DAYLIGHT
BEGIN:STANDARD
TZOFFSETFROM:+0200
TZOFFSETTO:+0100
TZNAME:CET
DTSTART:20241027T010000
END:STANDARD
BEGIN:DAYLIGHT
TZOFFSETFROM:+0100
TZOFFSETTO:+0200
TZNAME:CEST
DTSTART:20250330T010000
END:DAYLIGHT
BEGIN:STANDARD
TZOFFSETFROM:+0200
TZOFFSETTO:+0100
TZNAME:CET
DTSTART:20251026T010000
END:STANDARD
END:VTIMEZONE
BEGIN:VEVENT
DTSTART;TZID=Europe/Berlin:20240709T183000
DTEND;TZID=Europe/Berlin:20240709T203000
DTSTAMP:20260423T093607
CREATED:20240531T234422Z
LAST-MODIFIED:20240531T234434Z
UID:467-1720549800-1720557000@38-unter-einem-hut.de
SUMMARY:Treffen Dörfernetzwerk
DESCRIPTION:Das monatliche Treffen des Dörfernetzwerkes Nordwestuckermark findet am 9. Juli in Weggun und Parmen statt. Treffpunkt ist 18:30 Uhr am Neubau Weggun\, danach geht es weiter im Dorfgemeinschaftshaus Parmen. \nUnd es geht um dieses Thema: \n\nThemenabend „Die Zukunft unserer Neubaublöcke in der Gemeinde NWU“ – Investieren statt Verkaufen … Welche Visionen\, Ideen und Konzepte haben wir dafür? Welche könnten wir entwickeln? Wie können wir bei den Überlegungen möglichst viele Menschen beteiligen? Wie lässt sich das alles finanzieren? Stichwort Gemeindeentwicklungskonzept…\n\nNatürlich könnt Ihr auch Eure Themen mitbringen. Seid dabei! \n_____________________________________ \nJeden 2. Dienstag im Monat treffen sich Menschen\, die sich aktiv für unsere Gemeinde einsetzen wollen. Bei diesen Treffen geht es um unsere Dörfer\, die zahlreich und unterschiedlich sind. Es werden Themen besprochen\, die uns herausfordern\, uns bewegen\, die uns betreffen. Durch Austausch und gemeinsames Nachdenken entsteht Gemeinschaft und Identifikation. \nWir möchten Entwicklungen anstoßen und Menschen aus verschiedenen Dörfern miteinander vernetzen\, um wichtige Themen auf viele Schultern zu verteilen. Es beteiligen sich aktive und interessierte Bürgerinnen und Bürger\, Gemeindevertreter\, Mitglieder von Ortsbeiräten und Vereinen. \nWir freuen uns über jede Erweiterung der Runde. Nach den Treffen ist auch immer Zeit für Quasseln bei Bier und Brause. Die Orte wechseln regelmäßig\, so lernen wir uns und unsere Dörfer besser kennen. \nKommt doch mal vorbei.
URL:https://38-unter-einem-hut.de/doerfernetzwerk/event/treffen-doerfernetzwerk-15/
LOCATION:Dorfgemeinschaftshaus Parmen (am Sportplatz)\, Treffpunkt: Neubau Weggun
CATEGORIES:Netzwerktreffen
END:VEVENT
END:VCALENDAR