BEGIN:VCALENDAR
VERSION:2.0
PRODID:-//Dörfernetzwerk - ECPv6.15.20//NONSGML v1.0//EN
CALSCALE:GREGORIAN
METHOD:PUBLISH
X-ORIGINAL-URL:https://38-unter-einem-hut.de/doerfernetzwerk
X-WR-CALDESC:Veranstaltungen für Dörfernetzwerk
REFRESH-INTERVAL;VALUE=DURATION:PT1H
X-Robots-Tag:noindex
X-PUBLISHED-TTL:PT1H
BEGIN:VTIMEZONE
TZID:Europe/Berlin
BEGIN:DAYLIGHT
TZOFFSETFROM:+0100
TZOFFSETTO:+0200
TZNAME:CEST
DTSTART:20240331T010000
END:DAYLIGHT
BEGIN:STANDARD
TZOFFSETFROM:+0200
TZOFFSETTO:+0100
TZNAME:CET
DTSTART:20241027T010000
END:STANDARD
BEGIN:DAYLIGHT
TZOFFSETFROM:+0100
TZOFFSETTO:+0200
TZNAME:CEST
DTSTART:20250330T010000
END:DAYLIGHT
BEGIN:STANDARD
TZOFFSETFROM:+0200
TZOFFSETTO:+0100
TZNAME:CET
DTSTART:20251026T010000
END:STANDARD
BEGIN:DAYLIGHT
TZOFFSETFROM:+0100
TZOFFSETTO:+0200
TZNAME:CEST
DTSTART:20260329T010000
END:DAYLIGHT
BEGIN:STANDARD
TZOFFSETFROM:+0200
TZOFFSETTO:+0100
TZNAME:CET
DTSTART:20261025T010000
END:STANDARD
END:VTIMEZONE
BEGIN:VEVENT
DTSTART;TZID=Europe/Berlin:20250210T183000
DTEND;TZID=Europe/Berlin:20250210T203000
DTSTAMP:20260422T232438
CREATED:20250104T003832Z
LAST-MODIFIED:20250203T101833Z
UID:528-1739212200-1739219400@38-unter-einem-hut.de
SUMMARY:Treffen Dörfernetzwerk NWU
DESCRIPTION:ACHTUNG! Das Dörfernetzwerk findet ab jetzt immer am 10. des Monats statt. Dadurch wechseln die Wochentage und alle haben die Möglichkeit immer mal dabei zu sein. (Ausnahmen bestätigen natürlich die Regel ?) \nDas monatliche Treffen des Dörfernetzwerkes Nordwestuckermark findet am 10. Februar in der Dorfhalle Naugarten (gleich neben der Feuerwehr) statt. \nUnter anderem geht es um diese Themen: \n– Wandertag „Nordwestwärts“ des Dörfernetzwerkes\n– Vorschlag zur Vorgehensweise für die Entwicklung des Gemeindeentwicklungskonzeptes\n– … \nNatürlich bringt Ihr auch Eure Themen mit. Seid dabei! \n_____________________________________ \nEinmal im Monat treffen sich Menschen\, die sich aktiv für unsere Gemeinde einsetzen wollen. Bei diesen Treffen geht es um unsere Dörfer\, die zahlreich und unterschiedlich sind. Es werden Themen besprochen\, die uns herausfordern\, uns bewegen\, die uns betreffen. Durch Austausch und gemeinsames Nachdenken entsteht Gemeinschaft und Identifikation. \nWir möchten Entwicklungen anstoßen und Menschen aus verschiedenen Dörfern miteinander vernetzen\, um wichtige Themen auf viele Schultern zu verteilen. Es beteiligen sich aktive und interessierte Bürgerinnen und Bürger\, Mitglieder der Gemeindevertretung\, Ortsbeiräte und von Vereinen. \nWir freuen uns über jede Erweiterung der Runde. Nach den Treffen ist auch immer Zeit für Quasseln bei Bier und Brause. Die Orte wechseln regelmäßig\, so lernen wir uns und unsere Dörfer besser kennen. \nKommt doch mal vorbei.
URL:https://38-unter-einem-hut.de/doerfernetzwerk/event/treffen-doerfernetzwerk-nwu-4/
LOCATION:Dorfhalle Naugarten\, Dorfstraße 1\, Nordwestuckermark\, 17291
CATEGORIES:Netzwerktreffen
END:VEVENT
END:VCALENDAR