BEGIN:VCALENDAR
VERSION:2.0
PRODID:-//Dörfernetzwerk - ECPv6.15.20//NONSGML v1.0//EN
CALSCALE:GREGORIAN
METHOD:PUBLISH
X-WR-CALNAME:Dörfernetzwerk
X-ORIGINAL-URL:https://38-unter-einem-hut.de/doerfernetzwerk
X-WR-CALDESC:Veranstaltungen für Dörfernetzwerk
REFRESH-INTERVAL;VALUE=DURATION:PT1H
X-Robots-Tag:noindex
X-PUBLISHED-TTL:PT1H
BEGIN:VTIMEZONE
TZID:Europe/Berlin
BEGIN:DAYLIGHT
TZOFFSETFROM:+0100
TZOFFSETTO:+0200
TZNAME:CEST
DTSTART:20220327T010000
END:DAYLIGHT
BEGIN:STANDARD
TZOFFSETFROM:+0200
TZOFFSETTO:+0100
TZNAME:CET
DTSTART:20221030T010000
END:STANDARD
BEGIN:DAYLIGHT
TZOFFSETFROM:+0100
TZOFFSETTO:+0200
TZNAME:CEST
DTSTART:20230326T010000
END:DAYLIGHT
BEGIN:STANDARD
TZOFFSETFROM:+0200
TZOFFSETTO:+0100
TZNAME:CET
DTSTART:20231029T010000
END:STANDARD
BEGIN:DAYLIGHT
TZOFFSETFROM:+0100
TZOFFSETTO:+0200
TZNAME:CEST
DTSTART:20240331T010000
END:DAYLIGHT
BEGIN:STANDARD
TZOFFSETFROM:+0200
TZOFFSETTO:+0100
TZNAME:CET
DTSTART:20241027T010000
END:STANDARD
END:VTIMEZONE
BEGIN:VEVENT
DTSTART;TZID=Europe/Berlin:20230609T180000
DTEND;TZID=Europe/Berlin:20230609T210000
DTSTAMP:20260425T132237
CREATED:20230607T145331Z
LAST-MODIFIED:20230607T145446Z
UID:265-1686333600-1686344400@38-unter-einem-hut.de
SUMMARY:Zeitungsfest: Triff die NordWestUMSCHAU
DESCRIPTION:Wir laden herzlich ein zum kleinen Zeitungfest der NordWestUMSCHAU.\nWir feiern die Zeitung. Wir sagen Danke. Wir stellen uns vor. Wir wollen mehr werden.\nKommt vorbei. Wir freuen uns auf Euch. \nFreitag\, 9. Juni 2023\nab 18 Uhr\nBuchladen/Antiquariat Fürstenwerder\, Berliner Str. 4 \nHerzliche Grüße\nEuer Redaktionsteam
URL:https://38-unter-einem-hut.de/doerfernetzwerk/event/zeitungsfest-triff-die-nordwestumschau/
LOCATION:Buchladen & Antiquariat Fürstenwerder\, Berliner Straße 4\, Fürstenwerder\, 17291
CATEGORIES:Zeitung
ATTACH;FMTTYPE=image/jpeg:https://38-unter-einem-hut.de/doerfernetzwerk/wp-content/uploads/sites/2/2023/06/NWUMschau_Zeitungsfest_09062023.jpg
END:VEVENT
BEGIN:VEVENT
DTSTART;TZID=Europe/Berlin:20230613T183000
DTEND;TZID=Europe/Berlin:20230613T203000
DTSTAMP:20260425T132237
CREATED:20230317T200344Z
LAST-MODIFIED:20230606T142826Z
UID:227-1686681000-1686688200@38-unter-einem-hut.de
SUMMARY:Treffen Dörfernetzwerk
DESCRIPTION:Das monatliche Treffen des Dörfernetzwerkes Nordwestuckermark findet am 13. Juni im Dorfgemeinschaftshaus Zollchow statt. \nUnter anderem geht es um diese Themen: \n\nKommunalwahl 2024\nRegiomat\nWege\nWanderkneipe\nGemeinsam Wohnen\nBürger*innenkriterien Photovoltaik auf Freiflächen in NWU\n\nNatürlich könnt Ihr auch andere Themen mitbringen. Seid dabei! \n 
URL:https://38-unter-einem-hut.de/doerfernetzwerk/event/treffen-doerfernetzwerk-4/
LOCATION:Dorfgemeinschaftshaus Zollchow\, Steen Enn 2\, Nordwestuckermark\, 17291
END:VEVENT
END:VCALENDAR