BEGIN:VCALENDAR
VERSION:2.0
PRODID:-//Dörfernetzwerk - ECPv6.15.20//NONSGML v1.0//EN
CALSCALE:GREGORIAN
METHOD:PUBLISH
X-ORIGINAL-URL:https://38-unter-einem-hut.de/doerfernetzwerk
X-WR-CALDESC:Veranstaltungen für Dörfernetzwerk
REFRESH-INTERVAL;VALUE=DURATION:PT1H
X-Robots-Tag:noindex
X-PUBLISHED-TTL:PT1H
BEGIN:VTIMEZONE
TZID:Europe/Berlin
BEGIN:DAYLIGHT
TZOFFSETFROM:+0100
TZOFFSETTO:+0200
TZNAME:CEST
DTSTART:20230326T010000
END:DAYLIGHT
BEGIN:STANDARD
TZOFFSETFROM:+0200
TZOFFSETTO:+0100
TZNAME:CET
DTSTART:20231029T010000
END:STANDARD
BEGIN:DAYLIGHT
TZOFFSETFROM:+0100
TZOFFSETTO:+0200
TZNAME:CEST
DTSTART:20240331T010000
END:DAYLIGHT
BEGIN:STANDARD
TZOFFSETFROM:+0200
TZOFFSETTO:+0100
TZNAME:CET
DTSTART:20241027T010000
END:STANDARD
BEGIN:DAYLIGHT
TZOFFSETFROM:+0100
TZOFFSETTO:+0200
TZNAME:CEST
DTSTART:20250330T010000
END:DAYLIGHT
BEGIN:STANDARD
TZOFFSETFROM:+0200
TZOFFSETTO:+0100
TZNAME:CET
DTSTART:20251026T010000
END:STANDARD
END:VTIMEZONE
BEGIN:VEVENT
DTSTART;TZID=Europe/Berlin:20240602T100000
DTEND;TZID=Europe/Berlin:20240602T170000
DTSTAMP:20260423T093937
CREATED:20240309T124941Z
LAST-MODIFIED:20240309T124941Z
UID:388-1717322400-1717347600@38-unter-einem-hut.de
SUMMARY:NordWestWärts – 2. Wanderung durch die Gemeinde Nordwestuckermark
DESCRIPTION:Immer nordwestwärts – Wandern durch die große unbekannte Schönheit \n38 Dörfer und Siedlungsstellen wollen entdeckt werden\, ihre Natur\, ihre Menschen\, ihre Besonderheiten. Verschlungene Pfade\, Hohlwege\, Gemeinschaftshäuser\, Vereine\, Altes und Neues. \nSonntag\, 2. Juni 2024 \n10:00 bis 17:00 Uhr \nWir starten an der Kirche in Röpersdorf\, durchwandern die Charlottenhöhe\, kommen von Dollshof nach Zollchow und von dort zurück nach Röpersdorf. \nLänge: ca. 12 km \nTeilnahmegebühr: 5\,00 Euro (Für Kinder unter 14 Jahre kostenlos) \nVerpflegung: Auf der Strecke gibt es einen Verpflegungspunkt (keine Vollverpflegung)
URL:https://38-unter-einem-hut.de/doerfernetzwerk/event/nordwestwaerts-2-wanderung-durch-die-gemeinde-nordwestuckermark/
CATEGORIES:Wandertag
ATTACH;FMTTYPE=image/png:https://38-unter-einem-hut.de/doerfernetzwerk/wp-content/uploads/sites/2/2024/03/nordwestwaerts_02.06.2024.png
END:VEVENT
BEGIN:VEVENT
DTSTART;TZID=Europe/Berlin:20240604T180000
DTEND;TZID=Europe/Berlin:20240604T210000
DTSTAMP:20260423T093937
CREATED:20240413T093333Z
LAST-MODIFIED:20240413T093333Z
UID:405-1717524000-1717534800@38-unter-einem-hut.de
SUMMARY:Wanderkneipe Wahl-Spezial
DESCRIPTION:
URL:https://38-unter-einem-hut.de/doerfernetzwerk/event/wanderkneipe-wahl-spezial-3/
LOCATION:MKC Fürstenwerder\, Am Sportplatz\, Fürstenwerder\, 17291
CATEGORIES:Bürgerbeteiligung,Wanderkneipe
END:VEVENT
BEGIN:VEVENT
DTSTART;TZID=Europe/Berlin:20240611T183000
DTEND;TZID=Europe/Berlin:20240611T203000
DTSTAMP:20260423T093937
CREATED:20240309T125209Z
LAST-MODIFIED:20240531T233637Z
UID:391-1718130600-1718137800@38-unter-einem-hut.de
SUMMARY:Treffen Dörfernetzwerk
DESCRIPTION:Das monatliche Treffen des Dörfernetzwerkes Nordwestuckermark findet am 11. Juni in bzw. an der Kirche in Röpersdorf statt. \nUnter anderem geht es um diese Themen: \n\nnach der Wahl …\nAuswertung Format Wanderkneipe Wahl-Spezial\nWas geht in Röpersdorf?\n…\n\nNatürlich könnt Ihr auch Eure Themen mitbringen. Seid dabei! \n_____________________________________ \nJeden 2. Dienstag im Monat treffen sich Menschen\, die sich aktiv für unsere Gemeinde einsetzen wollen. Bei diesen Treffen geht es um unsere Dörfer\, die zahlreich und unterschiedlich sind. Es werden Themen besprochen\, die uns herausfordern\, uns bewegen\, die uns betreffen. Durch Austausch und gemeinsames Nachdenken entsteht Gemeinschaft und Identifikation. \nWir möchten Entwicklungen anstoßen und Menschen aus verschiedenen Dörfern miteinander vernetzen\, um wichtige Themen auf viele Schultern zu verteilen. Es beteiligen sich aktive und interessierte Bürgerinnen und Bürger\, Gemeindevertreter\, Mitglieder von Ortsbeiräten und Vereinen. \nWir freuen uns über jede Erweiterung der Runde. Nach den Treffen ist auch immer Zeit für Quasseln bei Bier und Brause. Die Orte wechseln regelmäßig\, so lernen wir uns und unsere Dörfer besser kennen. \nKommt doch mal vorbei.
URL:https://38-unter-einem-hut.de/doerfernetzwerk/event/treffen-doerfernetzwerk-14/
LOCATION:Kirche Röpersdorf\, Nordwestuckermark\, 17291
CATEGORIES:Netzwerktreffen
END:VEVENT
BEGIN:VEVENT
DTSTART;TZID=Europe/Berlin:20240621T190000
DTEND;TZID=Europe/Berlin:20240621T190000
DTSTAMP:20260423T093937
CREATED:20240314T111948Z
LAST-MODIFIED:20240531T234939Z
UID:396-1718996400-1718996400@38-unter-einem-hut.de
SUMMARY:Wanderkneipe Nordwestuckermark
DESCRIPTION:Das Dörfernetzwerk Nordwestuckermark lädt herzlich zur Wanderkneipe ein!\nWir bringen Menschen der 38 Dörfer zusammen. \nam Freitag\, 21. Juni 2024\nab 19 Uhr\nin Beenz (voraussichtlich im/am Dorfgemeinschaftshaus “Alte Schule”) \nThema des Abends: “Nudlsalat und Buletten” – Alteingesessene und Zugezogene in einem Dorf\nNatürlich gibt es Getränke und auch einen kleinen Imbiss. \nKommt vorbei! \nDie Wanderkneipe macht Menschen aus 38 Dörfern zu Nachbarn\nIn den vergangenen Jahren haben viele zentrale Begegnungsorte in den Dörfern der Nordwestuckermark\, wie Kneipen und Läden\, geschlossen. Dies hat den sozialen Zusammenhalt und den Austausch zwischen den Bewohnern aller Altersgruppen beeinträchtigt. Um diesem Trend entgegenzuwirken\, wurde im „Dörfernetzwerk Nordwestuckermark“ die Idee einer mobilen Wanderkneipe geboren. Sie zieht von Dorf zu Dorf und bietet den Menschen einen Ort\, um sich zu treffen\, auszutauschen und Gemeinschaft zu erleben. Dabei steht die Beziehung zwischen den Menschen im Mittelpunkt\, denn viele Bewohner haben den Eindruck\, dass sowohl der Kontakt zwischen den Dörfern als auch der zur Kommunalpolitik verloren gegangen ist. Durch das mobile Format der Wanderkneipe können neue Verbindungen geschaffen und das Gemeinwohl gestärkt werden. Sie ermöglicht nicht nur den Austausch zwischen den Bewohnern\, sondern auch zwischen den Generationen. „Erleben\, was uns verbindet“ ist dabei das Motto. In einer Zeit\, in der viele das Gefühl der Isolation und Ohnmacht spüren\, zeigt die Wanderkneipe\, dass Zusammenhalt und Gemeinschaft im Herzen der Dörfer noch immer lebendig sind. \nMit der Idee “Wanderkneipe” hat das Dörfernetzwerk den 1. Platz in der Kategorie “Engagement für mehr Lebensqualität und ein gutes Miteinander” im Ideenwettbewerb “machen!2023” des Ostbeauftragten der Bundesregierung gewonnen. Im März ist das Projekt gestartet\, wird ehrenamtlich auf die Beine gestellt und findet einmal im Monat an verschiedenen Orten in der Gemeinde Nordwestuckermark statt. \nP.S. Freiwllige sind gerne willkommen im Wanderkneipen-Team mitzumachen. \nWanderkneipe Nordwestuckermark – ein Ort für demokratische Geselligkeit\nKontakt: wanderkneipe@38-unter-einem-hut.de
URL:https://38-unter-einem-hut.de/doerfernetzwerk/event/wanderkneipe-nordwestuckermark-3/
LOCATION:Dorfgemeinschaftshaus Beenz\, Heidereiterweg 35\, Nordwestuckermark\, 17291
CATEGORIES:Wanderkneipe
ATTACH;FMTTYPE=image/png:https://38-unter-einem-hut.de/doerfernetzwerk/wp-content/uploads/sites/2/2024/03/Wanderkneipe_Teaser-Flyer_quer.png
END:VEVENT
END:VCALENDAR