BEGIN:VCALENDAR
VERSION:2.0
PRODID:-//Dörfernetzwerk - ECPv6.15.20//NONSGML v1.0//EN
CALSCALE:GREGORIAN
METHOD:PUBLISH
X-WR-CALNAME:Dörfernetzwerk
X-ORIGINAL-URL:https://38-unter-einem-hut.de/doerfernetzwerk
X-WR-CALDESC:Veranstaltungen für Dörfernetzwerk
REFRESH-INTERVAL;VALUE=DURATION:PT1H
X-Robots-Tag:noindex
X-PUBLISHED-TTL:PT1H
BEGIN:VTIMEZONE
TZID:Europe/Berlin
BEGIN:DAYLIGHT
TZOFFSETFROM:+0100
TZOFFSETTO:+0200
TZNAME:CEST
DTSTART:20230326T010000
END:DAYLIGHT
BEGIN:STANDARD
TZOFFSETFROM:+0200
TZOFFSETTO:+0100
TZNAME:CET
DTSTART:20231029T010000
END:STANDARD
BEGIN:DAYLIGHT
TZOFFSETFROM:+0100
TZOFFSETTO:+0200
TZNAME:CEST
DTSTART:20240331T010000
END:DAYLIGHT
BEGIN:STANDARD
TZOFFSETFROM:+0200
TZOFFSETTO:+0100
TZNAME:CET
DTSTART:20241027T010000
END:STANDARD
BEGIN:DAYLIGHT
TZOFFSETFROM:+0100
TZOFFSETTO:+0200
TZNAME:CEST
DTSTART:20250330T010000
END:DAYLIGHT
BEGIN:STANDARD
TZOFFSETFROM:+0200
TZOFFSETTO:+0100
TZNAME:CET
DTSTART:20251026T010000
END:STANDARD
END:VTIMEZONE
BEGIN:VEVENT
DTSTART;TZID=Europe/Berlin:20241210T183000
DTEND;TZID=Europe/Berlin:20241210T203000
DTSTAMP:20260423T005414
CREATED:20240928T165647Z
LAST-MODIFIED:20240928T165852Z
UID:500-1733855400-1733862600@38-unter-einem-hut.de
SUMMARY:Treffen Dörfernetzwerk NWU
DESCRIPTION:ACHTUNG! Das Dörfernetzwerk findet ab jetzt immer am 10. des Monats statt. Dadurch wechseln die Wochentage und alle haben die Möglichkeit immer mal dabei zu sein. (Ausnahmen bestätigen natürlich die Regel 😉 \nDas monatliche Treffen des Dörfernetzwerkes Nordwestuckermark findet am 10. Dezember im Buchladen Fürstenwerder statt. \nUnter anderem geht es um diese Themen: \n\n… ??? die Themen ergänzen wir kurz vor dem Treffen …\n\nNatürlich könnt Ihr auch Eure Themen mitbringen. Seid dabei! \n_____________________________________ \nEinmal im Monat treffen sich Menschen\, die sich aktiv für unsere Gemeinde einsetzen wollen. Bei diesen Treffen geht es um unsere Dörfer\, die zahlreich und unterschiedlich sind. Es werden Themen besprochen\, die uns herausfordern\, uns bewegen\, die uns betreffen. Durch Austausch und gemeinsames Nachdenken entsteht Gemeinschaft und Identifikation. \nWir möchten Entwicklungen anstoßen und Menschen aus verschiedenen Dörfern miteinander vernetzen\, um wichtige Themen auf viele Schultern zu verteilen. Es beteiligen sich aktive und interessierte Bürgerinnen und Bürger\, Mitglieder der Gemeindevertretung\, Ortsbeiräte und von Vereinen. \nWir freuen uns über jede Erweiterung der Runde. Nach den Treffen ist auch immer Zeit für Quasseln bei Bier und Brause. Die Orte wechseln regelmäßig\, so lernen wir uns und unsere Dörfer besser kennen. \nKommt doch mal vorbei.
URL:https://38-unter-einem-hut.de/doerfernetzwerk/event/treffen-doerfernetzwerk-nwu-2/
LOCATION:Buchladen & Antiquariat Fürstenwerder\, Berliner Straße 4\, Fürstenwerder\, 17291
CATEGORIES:Netzwerktreffen
END:VEVENT
END:VCALENDAR