BEGIN:VCALENDAR
VERSION:2.0
PRODID:-//Dörfernetzwerk - ECPv6.15.20//NONSGML v1.0//EN
CALSCALE:GREGORIAN
METHOD:PUBLISH
X-ORIGINAL-URL:https://38-unter-einem-hut.de/doerfernetzwerk
X-WR-CALDESC:Veranstaltungen für Dörfernetzwerk
REFRESH-INTERVAL;VALUE=DURATION:PT1H
X-Robots-Tag:noindex
X-PUBLISHED-TTL:PT1H
BEGIN:VTIMEZONE
TZID:Europe/Berlin
BEGIN:DAYLIGHT
TZOFFSETFROM:+0100
TZOFFSETTO:+0200
TZNAME:CEST
DTSTART:20240331T010000
END:DAYLIGHT
BEGIN:STANDARD
TZOFFSETFROM:+0200
TZOFFSETTO:+0100
TZNAME:CET
DTSTART:20241027T010000
END:STANDARD
BEGIN:DAYLIGHT
TZOFFSETFROM:+0100
TZOFFSETTO:+0200
TZNAME:CEST
DTSTART:20250330T010000
END:DAYLIGHT
BEGIN:STANDARD
TZOFFSETFROM:+0200
TZOFFSETTO:+0100
TZNAME:CET
DTSTART:20251026T010000
END:STANDARD
BEGIN:DAYLIGHT
TZOFFSETFROM:+0100
TZOFFSETTO:+0200
TZNAME:CEST
DTSTART:20260329T010000
END:DAYLIGHT
BEGIN:STANDARD
TZOFFSETFROM:+0200
TZOFFSETTO:+0100
TZNAME:CET
DTSTART:20261025T010000
END:STANDARD
END:VTIMEZONE
BEGIN:VEVENT
DTSTART;TZID=Europe/Berlin:20250410T183000
DTEND;TZID=Europe/Berlin:20250410T203000
DTSTAMP:20260422T190402
CREATED:20250226T093241Z
LAST-MODIFIED:20250226T093414Z
UID:573-1744309800-1744317000@38-unter-einem-hut.de
SUMMARY:Treffen Dörfernetzwerk NWU in Schönermark
DESCRIPTION:ACHTUNG! Das Dörfernetzwerk findet ab sofort immer am 10. des Monats statt. Dadurch wechseln die Wochentage und alle haben die Möglichkeit immer mal dabei zu sein. (Ausnahmen bestätigen natürlich die Regel ?) \nDas monatliche Treffen des Dörfernetzwerkes Nordwestuckermark findet am 10. April in der Kirche Schönermark statt. Dort gibt es einen beheizbaren Raum. \nUnter anderem geht es um diese Themen: \n\n… noch gibt es keine Themen\, aber es geht mit Sicherheit auch um das Gemeindeentwicklungskonzept …\n… wenn noch mehr Themen anstehen\, ergänzen wir diese hier kurz vorher …\n …\n\nNatürlich könnt Ihr auch Eure Themen mitbringen. Seid dabei! \n_____________________________________ \nEinmal im Monat treffen sich Menschen\, die sich aktiv für unsere Gemeinde einsetzen wollen. Bei diesen Treffen geht es um unsere Dörfer\, die zahlreich und unterschiedlich sind. Es werden Themen besprochen\, die uns herausfordern\, uns bewegen\, die uns betreffen. Durch Austausch und gemeinsames Nachdenken entsteht Gemeinschaft und Identifikation. \nWir möchten Entwicklungen anstoßen und Menschen aus verschiedenen Dörfern miteinander vernetzen\, um wichtige Themen auf viele Schultern zu verteilen. Es beteiligen sich aktive und interessierte Bürgerinnen und Bürger\, Mitglieder der Gemeindevertretung\, Ortsbeiräte und von Vereinen. \nWir freuen uns über jede Erweiterung der Runde. Nach den Treffen ist auch immer Zeit für Quasseln bei Bier und Brause. Die Orte wechseln regelmäßig\, so lernen wir uns und unsere Dörfer besser kennen. \nKommt doch mal vorbei.
URL:https://38-unter-einem-hut.de/doerfernetzwerk/event/treffen-doerfernetzwerk-nwu-in-schoenermark/
LOCATION:Kirche Schönermark\, Nordwestuckermark OT Schönermark\, 17291
CATEGORIES:Netzwerktreffen
END:VEVENT
BEGIN:VEVENT
DTSTART;TZID=Europe/Berlin:20250425T183000
DTEND;TZID=Europe/Berlin:20250425T183000
DTSTAMP:20260422T190402
CREATED:20250407T120738Z
LAST-MODIFIED:20250407T120810Z
UID:592-1745605800-1745605800@38-unter-einem-hut.de
SUMMARY:Wanderkneipe Nordwestuckermark in Lindenhagen
DESCRIPTION:Das Dörfernetzwerk Nordwestuckermark lädt herzlich zur Wanderkneipe ein!\nWir bringen Menschen der 38 Dörfer zusammen. \nam Freitag\, 25. April 2025\nab 18:30 Uhr\nin Lindenhagen\nDorfgemeinschaftshaus\, Seeweg 10\, 17291 Nordwestuckermark\n \nThema: Feld-steinreiche Gegend \nEs gibt Getränke und einen kleinen Imbiss. \nKommt vorbei! \nDie Wanderkneipe macht Menschen aus 38 Dörfern zu Nachbarn\nIn den vergangenen Jahren haben viele zentrale Begegnungsorte in den Dörfern der Nordwestuckermark\, wie Kneipen und Läden\, geschlossen. Dies hat den sozialen Zusammenhalt und den Austausch zwischen den Bewohnern aller Altersgruppen beeinträchtigt. Um diesem Trend entgegenzuwirken\, wurde im „Dörfernetzwerk Nordwestuckermark“ die Idee einer mobilen Wanderkneipe geboren. Sie zieht von Dorf zu Dorf und bietet den Menschen einen Ort\, um sich zu treffen\, auszutauschen und Gemeinschaft zu erleben. Dabei steht die Beziehung zwischen den Menschen im Mittelpunkt\, denn viele Bewohner haben den Eindruck\, dass sowohl der Kontakt zwischen den Dörfern als auch der zur Kommunalpolitik verloren gegangen ist. Durch das mobile Format der Wanderkneipe können neue Verbindungen geschaffen und das Gemeinwohl gestärkt werden. Sie ermöglicht nicht nur den Austausch zwischen den Bewohnern\, sondern auch zwischen den Generationen. „Erleben\, was uns verbindet“ ist dabei das Motto. In einer Zeit\, in der viele das Gefühl der Isolation und Ohnmacht spüren\, zeigt die Wanderkneipe\, dass Zusammenhalt und Gemeinschaft im Herzen der Dörfer noch immer lebendig sind. \nMit der Idee “Wanderkneipe” hat das Dörfernetzwerk den 1. Platz in der Kategorie “Engagement für mehr Lebensqualität und ein gutes Miteinander” im Ideenwettbewerb “machen!2023” des Ostbeauftragten der Bundesregierung gewonnen. Im März 2024 ist das Projekt gestartet\, wird ehrenamtlich auf die Beine gestellt und findet einmal im Monat an verschiedenen Orten in der Gemeinde Nordwestuckermark statt. \nP.S. Freiwllige sind gerne willkommen im Wanderkneipen-Team mitzumachen. \nWanderkneipe Nordwestuckermark – ein Ort für demokratische Geselligkeit
URL:https://38-unter-einem-hut.de/doerfernetzwerk/event/wanderkneipe-nordwestuckermark-in-lindenhagen/
LOCATION:Dorfgemeinschaftshaus Lindenhagen\, Seeweg 10\, Nordwestuckermark\, 17291
CATEGORIES:Wanderkneipe
ATTACH;FMTTYPE=image/png:https://38-unter-einem-hut.de/doerfernetzwerk/wp-content/uploads/sites/2/2024/03/Wanderkneipe_Teaser-Flyer_quer.png
END:VEVENT
END:VCALENDAR