BEGIN:VCALENDAR
VERSION:2.0
PRODID:-//Dörfernetzwerk - ECPv6.15.20//NONSGML v1.0//EN
CALSCALE:GREGORIAN
METHOD:PUBLISH
X-ORIGINAL-URL:https://38-unter-einem-hut.de/doerfernetzwerk
X-WR-CALDESC:Veranstaltungen für Dörfernetzwerk
REFRESH-INTERVAL;VALUE=DURATION:PT1H
X-Robots-Tag:noindex
X-PUBLISHED-TTL:PT1H
BEGIN:VTIMEZONE
TZID:Europe/Berlin
BEGIN:DAYLIGHT
TZOFFSETFROM:+0100
TZOFFSETTO:+0200
TZNAME:CEST
DTSTART:20240331T010000
END:DAYLIGHT
BEGIN:STANDARD
TZOFFSETFROM:+0200
TZOFFSETTO:+0100
TZNAME:CET
DTSTART:20241027T010000
END:STANDARD
BEGIN:DAYLIGHT
TZOFFSETFROM:+0100
TZOFFSETTO:+0200
TZNAME:CEST
DTSTART:20250330T010000
END:DAYLIGHT
BEGIN:STANDARD
TZOFFSETFROM:+0200
TZOFFSETTO:+0100
TZNAME:CET
DTSTART:20251026T010000
END:STANDARD
BEGIN:DAYLIGHT
TZOFFSETFROM:+0100
TZOFFSETTO:+0200
TZNAME:CEST
DTSTART:20260329T010000
END:DAYLIGHT
BEGIN:STANDARD
TZOFFSETFROM:+0200
TZOFFSETTO:+0100
TZNAME:CET
DTSTART:20261025T010000
END:STANDARD
END:VTIMEZONE
BEGIN:VEVENT
DTSTART;VALUE=DATE:20250625
DTEND;VALUE=DATE:20250922
DTSTAMP:20260422T161730
CREATED:20250714T164926Z
LAST-MODIFIED:20250825T005427Z
UID:617-1750809600-1758499199@38-unter-einem-hut.de
SUMMARY:Was willst du NWU? Online-Bürgerbeteiligung am Gemeindeentwicklungskonzept Nordwestuckermark
DESCRIPTION:Die Gemeinde Nordwestuckermark erstellt derzeit ein Gemeindeentwicklungskonzept. Dieser Plan legt fest\, wie sich die Gemeinde bis zum Jahr 2040 in allen Lebensbereichen\, wie Wohnen\, Mobilität\, Versorgung\, Ehrenamt\, Freizeit\, Klima\, Jugend\, Wirtschaft und Zusammenleben entwickeln soll. Deine Antworten helfen\, konkrete Maßnahmen zu formulieren\, Schwerpunkte zu setzen und die Umsetzung von Ideen vorzubereiten. Gemeinsam gestalten wir die Nordwestuckermark von morgen. \nBis 21. September 2025 Online-Bürgerbeteiligung am Gemeindeentwicklungskonzept Nordwestuckermark \nBeteilige dich online. Hier kannst du an einer Umfrage teilnehmen und deine konkreten Ideen auch auf einer Karte eintragen und direkt verorten. Und du kannst Ideen von anderen sehen und kommentieren. Mach mit! \nDas geht ganz einfach: \nKlicke auf diesen Link zur Online-Bürgerbeteiligung. Melde dich schnell und unkompliziert an und beginne mit der Umfrage. Nimm kein Blatt vor den Mund und notiere auch Ideen\, die erstmal weit hergeholt klingen. Manchmal entwickeln sich aus den wildesten Ideen auch umsetzbare Projekte. Die Gemeinde braucht Deine Ortskenntnis! Lade auch Deine Nachbarn ein\, diese Beteiligung zu nutzen\, um ein möglichst breites Bild aus der Bevölkerung zu erhalten.
URL:https://38-unter-einem-hut.de/doerfernetzwerk/event/was-willst-du-nwu-online-buergerbeteiligung-am-gemeindeentwicklungskonzept-nordwestuckermark/
LOCATION:online
CATEGORIES:Bürgerbeteiligung
ATTACH;FMTTYPE=image/png:https://38-unter-einem-hut.de/doerfernetzwerk/wp-content/uploads/sites/2/2025/07/GEP_Beteiligung_1.png
END:VEVENT
BEGIN:VEVENT
DTSTART;TZID=Europe/Berlin:20250710T183000
DTEND;TZID=Europe/Berlin:20250710T203000
DTSTAMP:20260422T161730
CREATED:20250328T094313Z
LAST-MODIFIED:20250328T094313Z
UID:589-1752172200-1752179400@38-unter-einem-hut.de
SUMMARY:Treffen Dörfernetzwerk NWU in Zollchow
DESCRIPTION:Das Dörfernetzwerk findet immer am 10. des Monats statt. Dadurch wechseln die Wochentage und alle haben die Möglichkeit immer mal dabei zu sein. \nDas monatliche Treffen des Dörfernetzwerkes Nordwestuckermark findet am 10. Juli im Dorfgemeinschaftshaus Zollchow statt. \nUnter anderem geht es um diese Themen: \n\n… noch gibt es keine Themen\, aber es geht mit Sicherheit auch um das Gemeindeentwicklungskonzept …\n… wenn noch mehr Themen anstehen\, ergänzen wir diese hier kurz vorher …\n …\n\nNatürlich bringt ihr eure Themen mit. Seid dabei! \nEinmal im Monat treffen sich Menschen\, die sich aktiv für unsere Gemeinde einsetzen wollen. Bei diesen Treffen geht es um unsere Dörfer\, die zahlreich und unterschiedlich sind. Es werden Themen besprochen\, die uns herausfordern\, uns bewegen\, die uns betreffen. Durch Austausch und gemeinsames Nachdenken entsteht Gemeinschaft und Identifikation. \nWir möchten Entwicklungen anstoßen und Menschen aus verschiedenen Dörfern miteinander vernetzen\, um wichtige Themen auf viele Schultern zu verteilen. Es beteiligen sich aktive und interessierte Bürgerinnen und Bürger\, Mitglieder der Gemeindevertretung\, Ortsbeiräte und von Vereinen. \nWir freuen uns über jede Erweiterung der Runde. Nach den Treffen ist auch immer Zeit für Quasseln bei Bier und Brause. Die Orte wechseln regelmäßig\, so lernen wir uns und unsere Dörfer besser kennen. \nKommt doch vorbei.
URL:https://38-unter-einem-hut.de/doerfernetzwerk/event/treffen-doerfernetzwerk-nwu-in-zollchow/
LOCATION:Dorfgemeinschaftshaus Zollchow\, Steen Enn 2\, Nordwestuckermark\, 17291
CATEGORIES:Netzwerktreffen
END:VEVENT
BEGIN:VEVENT
DTSTART;TZID=Europe/Berlin:20250725T130000
DTEND;TZID=Europe/Berlin:20250725T180000
DTSTAMP:20260422T161730
CREATED:20250723T120039Z
LAST-MODIFIED:20250723T120039Z
UID:625-1753448400-1753466400@38-unter-einem-hut.de
SUMMARY:Kinder- und Jugendbeteiligung zum Gemeindeentwicklungskonzept Nordwestuckermark
DESCRIPTION:Was willst Du – NWU?\nKinder- und Jugendbeteiligung zum Gemeindeentwicklungskonzept Nordwestuckermark\nam Freitag\, 25.7. ab 13 Uhr (bis 18 Uhr)\nin Wittstock\, im Feuerwehr-Gerätehaus (neben der Kita)\, Pappelallee 2\, 17291 Nordwestuckermark \nEingeladen sind alle Kinder und Jugendlichen der Gemeinde NWU. \nWas findet ihr cool? Wo ist euer Lieblingsort? Wie stellt ihr euch das Jahr 2040 vor?\n– im Stationsbetrieb mit fliegendem Wechsel\n– pro Durchlauf wird max. 1 Stunde gebraucht\n– ihr könnt zu verschiedenen Uhrzeiten kommen (spätestens 17 Uhr!) \nAus den Ideen der Kinder und Jugendlichen sollen mittels KI (künstlicher Intelligenz) in der letzten Station Bilder von ihren Visionen erstellt werden\, die in das Konzept einfließen sollen. Bis 18:00 Uhr ist das Team von Kollektiv Stadtsucht vor Ort und leitet die Kinder und Jugendlichen durch die Stationen.
URL:https://38-unter-einem-hut.de/doerfernetzwerk/event/kinder-und-jugendbeteiligung-zum-gemeindeentwicklungskonzept-nordwestuckermark/
LOCATION:Feuerwehr-Gerätehaus Wittstock\, Pappelallee 2\, Nordwestuckermark\, 17291
ATTACH;FMTTYPE=image/jpeg:https://38-unter-einem-hut.de/doerfernetzwerk/wp-content/uploads/sites/2/2025/07/K1600_20250721_KiJuB-Kinder.jpg
END:VEVENT
END:VCALENDAR