BEGIN:VCALENDAR
VERSION:2.0
PRODID:-//Dörfernetzwerk - ECPv6.15.20//NONSGML v1.0//EN
CALSCALE:GREGORIAN
METHOD:PUBLISH
X-WR-CALNAME:Dörfernetzwerk
X-ORIGINAL-URL:https://38-unter-einem-hut.de/doerfernetzwerk
X-WR-CALDESC:Veranstaltungen für Dörfernetzwerk
REFRESH-INTERVAL;VALUE=DURATION:PT1H
X-Robots-Tag:noindex
X-PUBLISHED-TTL:PT1H
BEGIN:VTIMEZONE
TZID:Europe/Berlin
BEGIN:DAYLIGHT
TZOFFSETFROM:+0100
TZOFFSETTO:+0200
TZNAME:CEST
DTSTART:20220327T010000
END:DAYLIGHT
BEGIN:STANDARD
TZOFFSETFROM:+0200
TZOFFSETTO:+0100
TZNAME:CET
DTSTART:20221030T010000
END:STANDARD
BEGIN:DAYLIGHT
TZOFFSETFROM:+0100
TZOFFSETTO:+0200
TZNAME:CEST
DTSTART:20230326T010000
END:DAYLIGHT
BEGIN:STANDARD
TZOFFSETFROM:+0200
TZOFFSETTO:+0100
TZNAME:CET
DTSTART:20231029T010000
END:STANDARD
BEGIN:DAYLIGHT
TZOFFSETFROM:+0100
TZOFFSETTO:+0200
TZNAME:CEST
DTSTART:20240331T010000
END:DAYLIGHT
BEGIN:STANDARD
TZOFFSETFROM:+0200
TZOFFSETTO:+0100
TZNAME:CET
DTSTART:20241027T010000
END:STANDARD
END:VTIMEZONE
BEGIN:VEVENT
DTSTART;TZID=Europe/Berlin:20230419T183000
DTEND;TZID=Europe/Berlin:20230419T183000
DTSTAMP:20260423T164326
CREATED:20230326T204502Z
LAST-MODIFIED:20230326T204502Z
UID:230-1681929000-1681929000@38-unter-einem-hut.de
SUMMARY:Workshop 1 Bürgerbeteiligung zu Solaranlagen auf Freiflächen in Nordwestuckermark
DESCRIPTION:Solaranlagen auf Freiflächen in unserer Gemeinde – Was spricht dafür? Was spricht dagegen? Welche Bedingungen sollten gelten? \nGestalten Sie mit! \nÜber die Aufstellung von Photovoltaik-Anlagen auf Freiflächen können Gemeinden mit Regelwerken bestimmen\, in denen sie die Möglichkeiten und Grenzen der Anlagen festhalten. In unserer Gemeinde Nordwestuckermark besteht Handlungsbedarf\, denn die Gültigkeit des seit mehr als zwei Jahren existierenden Beschlusses 47/2020\, in dem es heißt\, dass unter anderem Acker- und Grünlandflächen für die Errichtung von Photovoltaik-Freiflächenanlagen auszunehmen sind\, erfordern u.a. durch die Neuausrichtung der Bundesgesetzgebung ein Überdenken. \nLaut Beschluss eines Einwohnerantrags am 1. Dezember 2022 sollen die Bürger*innen in einem Beteiligungsprozess die Möglichkeit haben\, sowohl über mögliche Herausforderungen und Probleme\, als auch über Chancen und Potentiale in Bezug auf den Bau von Solaranlagen auf Freiflächen ins Gespräch zu kommen. \nIm Rahmen der rechtlichen\, technischen und finanziellen Möglichkeiten sollen die Bürger*innen Erwartungen und Empfehlungen an die Gemeindevertretung aussprechen und sogenannte „Bürger*innenkriterien“ erarbeiten\, die als valide Grundlage für einen Kriterienkatalog genutzt werden sollen. Dafür haben Aktive des Dörfernetzwerkes einen Beteiligungsprozess\, der aus 2 Phasen besteht\, entwickelt. \nBürgerbeteiligung Phase 1\nIm Apil finden drei\, von der Struktur her identische Workshops statt. Die Veranstaltung wird jeweils ca. zwei Stunden in Anspruch nehmen. \nMittwoch\, 19. April 2023\, 18:30 Uhr\, Dorfgemeinschaftshaus in Lindenhagen \nDonnerstag\, 20. April 2023\, 18:30 Uhr\, MKC in Fürstenwerder \nDienstag\, 25. April 2023\, 18:30 Uhr\, Hof Kokurin in Naugarten \nDie Bürger*innen werden durch einen kurzen „fachlichen“ Input über zentrale Eckpunkte\, die das Handeln beschränken (rechtliche Vorgaben\, ökologische Auswirkungen\, technische Möglichkeiten\, finanzielle Spielräume) informiert.\nDanach haben sie die Möglichkeit\, sich auf das Thema einzustimmen\, sich wechselseitig zu informieren und wahrzunehmen\, wie die Gemengelage der ersten Reaktionen auf die Sache ist. Es sollen Themenschwerpunkte für die zu entwickelnden Kriterien identifiziert\nund vordefiniert werden. \nWeitere Informationen finden Sie hier.
URL:https://38-unter-einem-hut.de/doerfernetzwerk/event/workshop-1-buergerbeteiligung-zu-solaranlagen-auf-freiflaechen-in-nordwestuckermark/
LOCATION:Dorfgemeinschaftshaus Lindenhagen\, Seeweg 10\, Nordwestuckermark\, 17291
END:VEVENT
BEGIN:VEVENT
DTSTART;TZID=Europe/Berlin:20230420T183000
DTEND;TZID=Europe/Berlin:20230420T183000
DTSTAMP:20260423T164326
CREATED:20230326T204751Z
LAST-MODIFIED:20230326T204751Z
UID:233-1682015400-1682015400@38-unter-einem-hut.de
SUMMARY:Workshop 2 Bürgerbeteiligung zu Solaranlagen auf Freiflächen in Nordwestuckermark
DESCRIPTION:Solaranlagen auf Freiflächen in unserer Gemeinde – Was spricht dafür? Was spricht dagegen? Welche Bedingungen sollten gelten? \nGestalten Sie mit! \nÜber die Aufstellung von Photovoltaik-Anlagen auf Freiflächen können Gemeinden mit Regelwerken bestimmen\, in denen sie die Möglichkeiten und Grenzen der Anlagen festhalten. In unserer Gemeinde Nordwestuckermark besteht Handlungsbedarf\, denn die Gültigkeit des seit mehr als zwei Jahren existierenden Beschlusses 47/2020\, in dem es heißt\, dass unter anderem Acker- und Grünlandflächen für die Errichtung von Photovoltaik-Freiflächenanlagen auszunehmen sind\, erfordern u.a. durch die Neuausrichtung der Bundesgesetzgebung ein Überdenken. \nLaut Beschluss eines Einwohnerantrags am 1. Dezember 2022 sollen die Bürger*innen in einem Beteiligungsprozess die Möglichkeit haben\, sowohl über mögliche Herausforderungen und Probleme\, als auch über Chancen und Potentiale in Bezug auf den Bau von Solaranlagen auf Freiflächen ins Gespräch zu kommen. \nIm Rahmen der rechtlichen\, technischen und finanziellen Möglichkeiten sollen die Bürger*innen Erwartungen und Empfehlungen an die Gemeindevertretung aussprechen und sogenannte „Bürger*innenkriterien“ erarbeiten\, die als valide Grundlage für einen Kriterienkatalog genutzt werden sollen. Dafür haben Aktive des Dörfernetzwerkes einen Beteiligungsprozess\, der aus 2 Phasen besteht\, entwickelt. \nBürgerbeteiligung Phase 1\nIm Apil finden drei\, von der Struktur her identische Workshops statt. Die Veranstaltung wird jeweils ca. zwei Stunden in Anspruch nehmen. \nMittwoch\, 19. April 2023\, 18:30 Uhr\, Dorfgemeinschaftshaus in Lindenhagen \nDonnerstag\, 20. April 2023\, 18:30 Uhr\, MKC in Fürstenwerder \nDienstag\, 25. April 2023\, 18:30 Uhr\, Hof Kokurin in Naugarten \nDie Bürger*innen werden durch einen kurzen „fachlichen“ Input über zentrale Eckpunkte\, die das Handeln beschränken (rechtliche Vorgaben\, ökologische Auswirkungen\, technische Möglichkeiten\, finanzielle Spielräume) informiert.\nDanach haben sie die Möglichkeit\, sich auf das Thema einzustimmen\, sich wechselseitig zu informieren und wahrzunehmen\, wie die Gemengelage der ersten Reaktionen auf die Sache ist. Es sollen Themenschwerpunkte für die zu entwickelnden Kriterien identifiziert\nund vordefiniert werden. \nWeitere Informationen finden Sie hier.
URL:https://38-unter-einem-hut.de/doerfernetzwerk/event/workshop-2-buergerbeteiligung-zu-solaranlagen-auf-freiflaechen-in-nordwestuckermark/
LOCATION:MKC Fürstenwerder\, Am Sportplatz\, Fürstenwerder\, 17291
END:VEVENT
BEGIN:VEVENT
DTSTART;TZID=Europe/Berlin:20230425T183000
DTEND;TZID=Europe/Berlin:20230425T183000
DTSTAMP:20260423T164326
CREATED:20230326T205049Z
LAST-MODIFIED:20230326T205049Z
UID:236-1682447400-1682447400@38-unter-einem-hut.de
SUMMARY:Workshop 3 Bürgerbeteiligung zu Solaranlagen auf Freiflächen in Nordwestuckermark
DESCRIPTION:Solaranlagen auf Freiflächen in unserer Gemeinde – Was spricht dafür? Was spricht dagegen? Welche Bedingungen sollten gelten? \nGestalten Sie mit! \nÜber die Aufstellung von Photovoltaik-Anlagen auf Freiflächen können Gemeinden mit Regelwerken bestimmen\, in denen sie die Möglichkeiten und Grenzen der Anlagen festhalten. In unserer Gemeinde Nordwestuckermark besteht Handlungsbedarf\, denn die Gültigkeit des seit mehr als zwei Jahren existierenden Beschlusses 47/2020\, in dem es heißt\, dass unter anderem Acker- und Grünlandflächen für die Errichtung von Photovoltaik-Freiflächenanlagen auszunehmen sind\, erfordern u.a. durch die Neuausrichtung der Bundesgesetzgebung ein Überdenken. \nLaut Beschluss eines Einwohnerantrags am 1. Dezember 2022 sollen die Bürger*innen in einem Beteiligungsprozess die Möglichkeit haben\, sowohl über mögliche Herausforderungen und Probleme\, als auch über Chancen und Potentiale in Bezug auf den Bau von Solaranlagen auf Freiflächen ins Gespräch zu kommen. \nIm Rahmen der rechtlichen\, technischen und finanziellen Möglichkeiten sollen die Bürger*innen Erwartungen und Empfehlungen an die Gemeindevertretung aussprechen und sogenannte „Bürger*innenkriterien“ erarbeiten\, die als valide Grundlage für einen Kriterienkatalog genutzt werden sollen. Dafür haben Aktive des Dörfernetzwerkes einen Beteiligungsprozess\, der aus 2 Phasen besteht\, entwickelt. \nBürgerbeteiligung Phase 1\nIm Apil finden drei\, von der Struktur her identische Workshops statt. Die Veranstaltung wird jeweils ca. zwei Stunden in Anspruch nehmen. \nMittwoch\, 19. April 2023\, 18:30 Uhr\, Dorfgemeinschaftshaus in Lindenhagen \nDonnerstag\, 20. April 2023\, 18:30 Uhr\, MKC in Fürstenwerder \nDienstag\, 25. April 2023\, 18:30 Uhr\, Hof Kokurin in Naugarten \nDie Bürger*innen werden durch einen kurzen „fachlichen“ Input über zentrale Eckpunkte\, die das Handeln beschränken (rechtliche Vorgaben\, ökologische Auswirkungen\, technische Möglichkeiten\, finanzielle Spielräume) informiert.\nDanach haben sie die Möglichkeit\, sich auf das Thema einzustimmen\, sich wechselseitig zu informieren und wahrzunehmen\, wie die Gemengelage der ersten Reaktionen auf die Sache ist. Es sollen Themenschwerpunkte für die zu entwickelnden Kriterien identifiziert\nund vordefiniert werden. \nWeitere Informationen finden Sie hier.
URL:https://38-unter-einem-hut.de/doerfernetzwerk/event/workshop-3-buergerbeteiligung-zu-solaranlagen-auf-freiflaechen-in-nordwestuckermark/
LOCATION:Hof Kokurin Naugarten\, Dorfstraße 32\, Naugarten\, 17291
END:VEVENT
END:VCALENDAR