BEGIN:VCALENDAR
VERSION:2.0
PRODID:-//Dörfernetzwerk - ECPv6.15.20//NONSGML v1.0//EN
CALSCALE:GREGORIAN
METHOD:PUBLISH
X-ORIGINAL-URL:https://38-unter-einem-hut.de/doerfernetzwerk
X-WR-CALDESC:Veranstaltungen für Dörfernetzwerk
REFRESH-INTERVAL;VALUE=DURATION:PT1H
X-Robots-Tag:noindex
X-PUBLISHED-TTL:PT1H
BEGIN:VTIMEZONE
TZID:Europe/Berlin
BEGIN:DAYLIGHT
TZOFFSETFROM:+0100
TZOFFSETTO:+0200
TZNAME:CEST
DTSTART:20250330T010000
END:DAYLIGHT
BEGIN:STANDARD
TZOFFSETFROM:+0200
TZOFFSETTO:+0100
TZNAME:CET
DTSTART:20251026T010000
END:STANDARD
BEGIN:DAYLIGHT
TZOFFSETFROM:+0100
TZOFFSETTO:+0200
TZNAME:CEST
DTSTART:20260329T010000
END:DAYLIGHT
BEGIN:STANDARD
TZOFFSETFROM:+0200
TZOFFSETTO:+0100
TZNAME:CET
DTSTART:20261025T010000
END:STANDARD
BEGIN:DAYLIGHT
TZOFFSETFROM:+0100
TZOFFSETTO:+0200
TZNAME:CEST
DTSTART:20270328T010000
END:DAYLIGHT
BEGIN:STANDARD
TZOFFSETFROM:+0200
TZOFFSETTO:+0100
TZNAME:CET
DTSTART:20271031T010000
END:STANDARD
END:VTIMEZONE
BEGIN:VEVENT
DTSTART;TZID=Europe/Berlin:20260307T183000
DTEND;TZID=Europe/Berlin:20260307T183000
DTSTAMP:20260419T170705
CREATED:20260203T130441Z
LAST-MODIFIED:20260203T130455Z
UID:693-1772908200-1772908200@38-unter-einem-hut.de
SUMMARY:Frauen-Wanderkneipe Nordwestuckermark in Groß Sperrenwalde
DESCRIPTION:Das Dörfernetzwerk Nordwestuckermark lädt herzlich ein zur Wanderkneipe!\nWir bringen Menschen der 38 Dörfer zusammen. Diesmal anlässlich des Frauentags mit einem Kneipen-Spezial für Frauen und alle\, die sich weiblich fühlen. \nam Freitag\, 7. März 2026\nab 18:30 Uhr\nim Dorfgemeinschaftshaus Groß Sperrenwalde \nKommt vorbei! \nDu willst keinen Termin verpassen? Dann folge unserem WhatsApp-Kanal oder folge uns auf Instagram oder Facebook unter @38untereinemhut \nDie Wanderkneipe macht Menschen aus 38 Dörfern zu Nachbarn\nIn den vergangenen Jahren haben viele zentrale Begegnungsorte in den Dörfern der Nordwestuckermark\, wie Kneipen und Läden\, geschlossen. Dies hat den sozialen Zusammenhalt und den Austausch zwischen den Bewohnern aller Altersgruppen beeinträchtigt. Um diesem Trend entgegenzuwirken\, wurde im „Dörfernetzwerk Nordwestuckermark“ die Idee einer mobilen Wanderkneipe geboren. Sie zieht von Dorf zu Dorf und bietet den Menschen einen Ort\, um sich zu treffen\, auszutauschen und Gemeinschaft zu erleben. Dabei steht die Beziehung zwischen den Menschen im Mittelpunkt\, denn viele Bewohner haben den Eindruck\, dass sowohl der Kontakt zwischen den Dörfern als auch der zur Kommunalpolitik verloren gegangen ist. Durch das mobile Format der Wanderkneipe können neue Verbindungen geschaffen und das Gemeinwohl gestärkt werden. Sie ermöglicht nicht nur den Austausch zwischen den Bewohnern\, sondern auch zwischen den Generationen. „Erleben\, was uns verbindet“ ist dabei das Motto. In einer Zeit\, in der viele das Gefühl der Isolation und Ohnmacht spüren\, zeigt die Wanderkneipe\, dass Zusammenhalt und Gemeinschaft im Herzen der Dörfer noch immer lebendig sind. \nMit der Idee “Wanderkneipe” hat das Dörfernetzwerk den 1. Platz in der Kategorie “Engagement für mehr Lebensqualität und ein gutes Miteinander” im Ideenwettbewerb “machen!2023” des Ostbeauftragten der Bundesregierung gewonnen. Im März ist das Projekt gestartet\, wird ehrenamtlich auf die Beine gestellt und findet einmal im Monat an verschiedenen Orten in der Gemeinde Nordwestuckermark statt. \nP.S. Freiwllige sind gerne willkommen im Wanderkneipen-Team mitzumachen. \nWanderkneipe Nordwestuckermark – ein Ort für demokratische Geselligkeit
URL:https://38-unter-einem-hut.de/doerfernetzwerk/event/frauen-wanderkneipe-nordwestuckermark-in-gross-sperrenwalde/
LOCATION:Dorfgemeinschaftshaus Groß Sperrenwalde\, Seestraße 28\, Nordwestuckermark\, 17291
CATEGORIES:Wanderkneipe
ATTACH;FMTTYPE=image/png:https://38-unter-einem-hut.de/doerfernetzwerk/wp-content/uploads/sites/2/2026/02/3_2026_Sharepic_Kneipe.png
END:VEVENT
BEGIN:VEVENT
DTSTART;TZID=Europe/Berlin:20260321T180000
DTEND;TZID=Europe/Berlin:20260321T180000
DTSTAMP:20260419T170705
CREATED:20260309T085934Z
LAST-MODIFIED:20260309T090656Z
UID:710-1774116000-1774116000@38-unter-einem-hut.de
SUMMARY:ALLE SECHS AN EINEM TISCH: Wahlforum zur Bürgermeisterwahl NWU
DESCRIPTION:Am 19. April ist Bürgermeisterwahl in der Gemeinde Nordwestuckermark. Das Dörfernetzwerk NWU lädt ein: Lernen Sie alle sechs Kandidierenden persönlich kennen. Stellen Sie ihnen Ihre Fragen. \nErfahren Sie\, wie sie die Herausforderungen der kommenden Jahre meistern wollen\, welche Schwerpunkte sie setzen und woher die finanziellen Mittel für die Zukunft unserer Gemeinde kommen sollen. \nMit dabei die Kandidierenden Bört Büttner-Janner\, Kevin Dähn\, Tobias Kersten\, Jan Matiaske\, Susanne Ramm und Ralph Ryl\, \nModeration: Holger Siemann
URL:https://38-unter-einem-hut.de/doerfernetzwerk/event/alle-sechs-an-einem-tisch-wahlforum-zur-buergermeisterwahl-nwu/
LOCATION:Aula Grundschule Gllmitz\, Schulstraße 2\, Gollmitz\, 17291
CATEGORIES:Bürgerbeteiligung
ATTACH;FMTTYPE=image/png:https://38-unter-einem-hut.de/doerfernetzwerk/wp-content/uploads/sites/2/2026/03/Screenshot_Cover_alleSechs.png
END:VEVENT
END:VCALENDAR