BEGIN:VCALENDAR
VERSION:2.0
PRODID:-//Dörfernetzwerk - ECPv6.15.20//NONSGML v1.0//EN
CALSCALE:GREGORIAN
METHOD:PUBLISH
X-WR-CALNAME:Dörfernetzwerk
X-ORIGINAL-URL:https://38-unter-einem-hut.de/doerfernetzwerk
X-WR-CALDESC:Veranstaltungen für Dörfernetzwerk
REFRESH-INTERVAL;VALUE=DURATION:PT1H
X-Robots-Tag:noindex
X-PUBLISHED-TTL:PT1H
BEGIN:VTIMEZONE
TZID:Europe/Berlin
BEGIN:DAYLIGHT
TZOFFSETFROM:+0100
TZOFFSETTO:+0200
TZNAME:CEST
DTSTART:20250330T010000
END:DAYLIGHT
BEGIN:STANDARD
TZOFFSETFROM:+0200
TZOFFSETTO:+0100
TZNAME:CET
DTSTART:20251026T010000
END:STANDARD
BEGIN:DAYLIGHT
TZOFFSETFROM:+0100
TZOFFSETTO:+0200
TZNAME:CEST
DTSTART:20260329T010000
END:DAYLIGHT
BEGIN:STANDARD
TZOFFSETFROM:+0200
TZOFFSETTO:+0100
TZNAME:CET
DTSTART:20261025T010000
END:STANDARD
BEGIN:DAYLIGHT
TZOFFSETFROM:+0100
TZOFFSETTO:+0200
TZNAME:CEST
DTSTART:20270328T010000
END:DAYLIGHT
BEGIN:STANDARD
TZOFFSETFROM:+0200
TZOFFSETTO:+0100
TZNAME:CET
DTSTART:20271031T010000
END:STANDARD
END:VTIMEZONE
BEGIN:VEVENT
DTSTART;TZID=Europe/Berlin:20260610T183000
DTEND;TZID=Europe/Berlin:20260610T203000
DTSTAMP:20260419T182639
CREATED:20260407T144744Z
LAST-MODIFIED:20260407T144744Z
UID:720-1781116200-1781123400@38-unter-einem-hut.de
SUMMARY:Treffen Dörfernetzwerk in Zollchow
DESCRIPTION:Jeden 10. im Monat ist Nordwestuckermark-Tag. Denn am 10. jeden Monats finden die Treffen des Dörfernetzwerks Nordwestuckermark statt. Hier werden spannende Themen besprochen\, die in unserer Gemeinde aktuell sind oder den Teilnehmenden gerade besonders am Herzen liegen. Da gibt es für jeden etwas zu entdecken und seien es nur die vielen netten Menschen aus den vielen unterschiedlichen Dörfern\, die sich am 10. treffen. Komm doch mal vorbei!\n\n \n\nDas monatliche Treffen des Dörfernetzwerkes Nordwestuckermark findet am 10. Juni um 18:30 Uhr in Zollchow im Dorfgemeinschaftshaus statt.\n\n \n\nBringt eure Themen mit\, macht mit\, seid dabei!\n\n \n\nDu willst keinen Termin verpassen? Dann folge unserem WhatsApp-Kanal oder folge uns auf Instagram oder Facebook unter @38untereinemhut
URL:https://38-unter-einem-hut.de/doerfernetzwerk/event/treffen-doerfernetzwerk-in-zollchow/
LOCATION:Dorfgemeinschaftshaus Zollchow\, Steen Enn 2\, Nordwestuckermark\, 17291
CATEGORIES:Netzwerktreffen
ATTACH;FMTTYPE=image/png:https://38-unter-einem-hut.de/doerfernetzwerk/wp-content/uploads/sites/2/2026/04/DN-blanko-quer.png
END:VEVENT
END:VCALENDAR