BEGIN:VCALENDAR
VERSION:2.0
PRODID:-//38 unter einem Hut - ECPv6.15.20//NONSGML v1.0//EN
CALSCALE:GREGORIAN
METHOD:PUBLISH
X-WR-CALNAME:38 unter einem Hut
X-ORIGINAL-URL:https://38-unter-einem-hut.de
X-WR-CALDESC:Veranstaltungen für 38 unter einem Hut
REFRESH-INTERVAL;VALUE=DURATION:PT1H
X-Robots-Tag:noindex
X-PUBLISHED-TTL:PT1H
BEGIN:VTIMEZONE
TZID:Europe/Berlin
BEGIN:DAYLIGHT
TZOFFSETFROM:+0100
TZOFFSETTO:+0200
TZNAME:CEST
DTSTART:20220327T010000
END:DAYLIGHT
BEGIN:STANDARD
TZOFFSETFROM:+0200
TZOFFSETTO:+0100
TZNAME:CET
DTSTART:20221030T010000
END:STANDARD
BEGIN:DAYLIGHT
TZOFFSETFROM:+0100
TZOFFSETTO:+0200
TZNAME:CEST
DTSTART:20230326T010000
END:DAYLIGHT
BEGIN:STANDARD
TZOFFSETFROM:+0200
TZOFFSETTO:+0100
TZNAME:CET
DTSTART:20231029T010000
END:STANDARD
BEGIN:DAYLIGHT
TZOFFSETFROM:+0100
TZOFFSETTO:+0200
TZNAME:CEST
DTSTART:20240331T010000
END:DAYLIGHT
BEGIN:STANDARD
TZOFFSETFROM:+0200
TZOFFSETTO:+0100
TZNAME:CET
DTSTART:20241027T010000
END:STANDARD
END:VTIMEZONE
BEGIN:VEVENT
DTSTART;TZID=Europe/Berlin:20231117T170000
DTEND;TZID=Europe/Berlin:20231117T200000
DTSTAMP:20260423T071110
CREATED:20230607T201841Z
LAST-MODIFIED:20230929T101745Z
UID:568-1700240400-1700251200@38-unter-einem-hut.de
SUMMARY:1. Tag des freiwilligen Engagements und Ehrenamtes der Gemeinde Nordwestuckermark
DESCRIPTION:Engagement und Ehrenamt in Nordwestuckermark? Ja\, und zwar jede Menge! Dann wird es Zeit\, dass es dafür eine Bühne gibt … \nDie Gemeindeverwaltung und die Steuergruppe „Gemeindeentwicklung und Bürgerbeteiligung“ mit Aktiven des Dörfernetzwerkes laden am 17. November 2023 zum 1. Tag des freiwilligen Engagements und Ehrenamtes der Gemeinde Nordwestuckermark nach Fürstenwerder ein. Gemeinam feiern wir die Vielfalt des ehrenamtlichen Engagements in den 38 Dörfern unserer Gemeinde. \nEngagierte Menschen bilden den „Kit“ für Gemeinschaft und Zusammenhalt in den Dörfern unserer Gemeinde. Aber wer steckt eigentlich dahinter? Wer gestaltet das Dorfleben? Wer engagiert sich für Kinder und Jugendliche\, Seniorinnen und Senioren? Wer kümmert sich um Sport\, Kultur und Feuerwehr? Wer kocht den Kaffee für den Rentnernachmittag? Wer kümmert sich um die vielen Dorfgemeinschaftshäuser? Wer übernimmt Verantwortung in Ortsbeiräten und Gemeindevertretung? Wer öffnet regelmäßig die Dorfbibliothek? Wer schmückt die Kirchen bei Veranstaltungen? (Die Liste müsste noch viel viel länger sein…) \nDer Engagement-Tag zeigt\, was Vereine und Initiativen\, aber auch einzelne Engagierte bei uns auf die Beine stellen. Wer sind die Menschen dahinter\, was treibt sie an\, was bewegt sie und was brauchen sie\, damit sie ihr Engagement gut ausfüllen können? \nMerken Sie sich den Termin schon einmal vor! Eine Einladung folgt im Oktober. \n17. November 2023 ab 17 Uhr im MKC Fürstenwerder
URL:https://38-unter-einem-hut.de/event/engagement-tag-nordwestuckermark/
LOCATION:MKC Fürstenwerder\, Am Sportplatz\, Fürstenwerder\, 17291
ATTACH;FMTTYPE=image/jpeg:https://38-unter-einem-hut.de/wp-content/uploads/2023/06/volunteer-g595638f06_1280.jpg
END:VEVENT
END:VCALENDAR